BEGIN:VCALENDAR
VERSION:2.0
PRODID:-//ACT2exceed - ECPv6.15.18//NONSGML v1.0//EN
CALSCALE:GREGORIAN
METHOD:PUBLISH
X-ORIGINAL-URL:https://www.act2exceed.com
X-WR-CALDESC:Events for ACT2exceed
REFRESH-INTERVAL;VALUE=DURATION:PT1H
X-Robots-Tag:noindex
X-PUBLISHED-TTL:PT1H
BEGIN:VTIMEZONE
TZID:UTC
BEGIN:STANDARD
TZOFFSETFROM:+0000
TZOFFSETTO:+0000
TZNAME:UTC
DTSTART:20170101T000000
END:STANDARD
END:VTIMEZONE
BEGIN:VTIMEZONE
TZID:Europe/Luxembourg
BEGIN:DAYLIGHT
TZOFFSETFROM:+0100
TZOFFSETTO:+0200
TZNAME:CEST
DTSTART:20160327T010000
END:DAYLIGHT
BEGIN:STANDARD
TZOFFSETFROM:+0200
TZOFFSETTO:+0100
TZNAME:CET
DTSTART:20161030T010000
END:STANDARD
BEGIN:DAYLIGHT
TZOFFSETFROM:+0100
TZOFFSETTO:+0200
TZNAME:CEST
DTSTART:20170326T010000
END:DAYLIGHT
BEGIN:STANDARD
TZOFFSETFROM:+0200
TZOFFSETTO:+0100
TZNAME:CET
DTSTART:20171029T010000
END:STANDARD
BEGIN:DAYLIGHT
TZOFFSETFROM:+0100
TZOFFSETTO:+0200
TZNAME:CEST
DTSTART:20180325T010000
END:DAYLIGHT
BEGIN:STANDARD
TZOFFSETFROM:+0200
TZOFFSETTO:+0100
TZNAME:CET
DTSTART:20181028T010000
END:STANDARD
END:VTIMEZONE
BEGIN:VEVENT
DTSTART;TZID=UTC:20180606T120000
DTEND;TZID=UTC:20180606T140000
DTSTAMP:20260422T161016
CREATED:20180530T184433Z
LAST-MODIFIED:20180530T184433Z
UID:1715-1528286400-1528293600@www.act2exceed.com
SUMMARY:The Lead(H)ership Game - Women Leaders
DESCRIPTION:*** CALLING WOMEN IN LEADERSHIP POSITIONS ***\nBECOME A MORE INFLUENTIAL LEADER \nIf you struggle with WANTING to move forward in your career – but still (sometimes) doubt your capacity to lead\, you want to speak up more and share your vision – but fear what others will think or say about it\, and you want to take more space in your professional situation – but have a pattern of always putting everyone else’s opinion and needs first\, to the point you sometimes don’t even know what you want… \nIf you know what I’m talking about\, then this is for you! Live workshop for women in corporate leadership positions\, aspiring to take the next step in their career. You will experience a powerful and highly valuable session of The Leadership Game. This will be a small and closed group session\, for maximum 8 women. \n \n  \nMiss America participating in a round of The Leadership Game at the International Maxwell Certification event in Orlando\, Florida\, August 2017. \n  \n  \nDate: June 6th\, Wednesday \nPlace: beautiful member club House17 (17\, rue du Nord\, Lux city) \nTime: 12:00-14:00 \nCost: 50€ per person \nBONUS: One of you will win a 1:1 coaching session where we focus on the project of your choice. (Value 500€). \nONLY THREE SEATS LEFT \n#leadership #womenleaders \nPhotos: The John Maxwell Team\n 
URL:https://www.act2exceed.com/event/the-leadhership-game-women-leaders-2/
LOCATION:House 17\, 17 Rue du Nord\, Luxembourg\, District de Luxembourg\, 2229\, Luxembourg
CATEGORIES:Leadership,Luxembourg
ATTACH;FMTTYPE=image/jpeg:https://www.act2exceed.com/wp-content/uploads/2018/05/p2535677781-o225773281-3.jpg
END:VEVENT
BEGIN:VEVENT
DTSTART;VALUE=DATE:20180503
DTEND;VALUE=DATE:20180505
DTSTAMP:20260422T161016
CREATED:20180501T172359Z
LAST-MODIFIED:20180501T172359Z
UID:1640-1525305600-1525478399@www.act2exceed.com
SUMMARY:The Arch Summit - Female Empowerment Pitch
DESCRIPTION:Taking place in Luxembourg on May 3rd and 4th\, at the LuxExpo\, the Arch Summit is brought to us by Tomorrow Street\, A joint venture between Vodafone and Technoport. \nThis event is the first of its kind in Luxembourg. It is a platform that brings together exceptional cross-industry knowledge from various businesses and the Vodafone innovation community. Their core mission is to bridge the gap between startups and the corporate world\, enabling the two to drive innovation.\n\nI am so excited (and a little\, or a lot\, nervous) to be competing in the pitch of the category female empowerment.\nThe winner in this category receives “The Whoopi Goldberg Female Empowerment Award”\, a very prestigious nomination.\n\nI would love to see you there! Please come and cheer for me on Thursday\, May 3rd. The first elimination round starts at 10:30.\nWinners from all three rounds will go on to the finals that take place on May 4th.\n\nGet your FREE ticket from the link below\, and use the code: SILATTENDEE\nhttps://www.archsummit.lu/tickets/\n\nWhoop\, whoop! See you there 🙂\n/Annica
URL:https://www.act2exceed.com/event/the-arch-summit-female-empowerment-pitch/
LOCATION:LuxExpo\, avenue de la Foire\, Kirchberg\, Luxembourg
CATEGORIES:Luxembourg
ATTACH;FMTTYPE=image/png:https://www.act2exceed.com/wp-content/uploads/2018/05/WhoopiSoldOut.png
END:VEVENT
BEGIN:VEVENT
DTSTART;TZID=UTC:20180308T093000
DTEND;TZID=UTC:20180308T120000
DTSTAMP:20260422T161016
CREATED:20180227T075230Z
LAST-MODIFIED:20180303T172939Z
UID:1269-1520501400-1520510400@www.act2exceed.com
SUMMARY:International Women's Day - Celebrate YOU
DESCRIPTION:In celebration of the International Women’s Day\, I will be hosting an empowerment workshop\, for ladies only\, on March 8th at House17\, in Luxembourg City. \n#PressForProgress#IWD2018\nThis will be one of those moments you wish would never end\, or could be something regular in your life! Come as stressed\, tired\, overwhelmed\, frustrated or feeling stuck as you want. You will walk out of there feeling energized\, happy\, light\, able and way more than “enough”\, with at LEAST one thing to take immediate action on to keep the momentum of the positive vibes. You will be surrounded by like-minded women who will appreciate your company! \nDrop in from 9:30\nWorkshop starts at 10:00\nLovely conversations and networking from 11:30\nEnd of workshop 12:00. \n\nCost: 30 euros\, includes coffee/tea. \nOfficial event host of IWD: #PressforProgress \nLimited seating\, only 12 spots. \nI am SUPER excited about this workshop\, and I look forward to seeing you there! \nA very grateful shoutout to my sponsors; Paris8 Luxembourg\, House17\, HotBox Yoga
URL:https://www.act2exceed.com/event/international-womens-day-celebrate-you/
LOCATION:House 17\, 17 Rue du Nord\, Luxembourg\, District de Luxembourg\, 2229\, Luxembourg
CATEGORIES:Luxembourg
ATTACH;FMTTYPE=image/png:https://www.act2exceed.com/wp-content/uploads/2018/02/IWD2018-SOLDOUT-2.png
END:VEVENT
BEGIN:VEVENT
DTSTART;TZID=Europe/Luxembourg:20171116T090000
DTEND;TZID=Europe/Luxembourg:20171116T103000
DTSTAMP:20260422T161016
CREATED:20171027T115231Z
LAST-MODIFIED:20171120T193917Z
UID:1083-1510822800-1510828200@www.act2exceed.com
SUMMARY:The Maxwell Speaker's Club *** SOLD OUT ***
DESCRIPTION: GRAND OPENING\nThe Maxwell Speakers Club Luxembourg\n\nGrand opening of the Maxell Speakers Club Luxembourg  \nStarting on Thursday\, November 16th\, from 9.00 to 10.30\, at member club House17. \nDeliver your best speech ever when you apply our world-class and successful principles to your presentation. Learn how one of the greatest speakers in the world connects with an audience to deliver impressive talks and presentations to every possible group constellation there is; small\, medium\, large\, gigantic\, intimate\, official\, you name it. \nYou will learn and practice powerful principles in a way that enables you to apply this to your small group presentations as well as in large auditoriums. \nIf you want to feel more comfortable and professional delivering your speeches and even enjoy it\, let’s work together to better your current best! \nJoin me for the grand opening of the Maxwell Speakers Club Luxembourg\, on Thursday\, November 16th and start your journey to delivering fantastic speeches. \nYour first session is free! \nSign up HERE and secure your spot today! \n\n\n    First name\n    \n    	\n    \n    \n    \n    \n        \n    \n    \n \n\n    Email *
URL:https://www.act2exceed.com/event/luxembourg-speaker-club/
CATEGORIES:Luxembourg
ATTACH;FMTTYPE=image/jpeg:https://www.act2exceed.com/wp-content/uploads/2017/11/Speakers_Club_Hdr_banner_jpg.jpg
END:VEVENT
END:VCALENDAR